BEGIN:VCALENDAR
VERSION:2.0
PRODID:-//Animal Rescue of the Rockies - ECPv6.15.20//NONSGML v1.0//EN
CALSCALE:GREGORIAN
METHOD:PUBLISH
X-WR-CALNAME:Animal Rescue of the Rockies
X-ORIGINAL-URL:https://arrcolorado.org
X-WR-CALDESC:Events for Animal Rescue of the Rockies
REFRESH-INTERVAL;VALUE=DURATION:PT1H
X-Robots-Tag:noindex
X-PUBLISHED-TTL:PT1H
BEGIN:VTIMEZONE
TZID:America/Denver
BEGIN:DAYLIGHT
TZOFFSETFROM:-0700
TZOFFSETTO:-0600
TZNAME:MDT
DTSTART:20200308T090000
END:DAYLIGHT
BEGIN:STANDARD
TZOFFSETFROM:-0600
TZOFFSETTO:-0700
TZNAME:MST
DTSTART:20201101T080000
END:STANDARD
BEGIN:DAYLIGHT
TZOFFSETFROM:-0700
TZOFFSETTO:-0600
TZNAME:MDT
DTSTART:20210314T090000
END:DAYLIGHT
BEGIN:STANDARD
TZOFFSETFROM:-0600
TZOFFSETTO:-0700
TZNAME:MST
DTSTART:20211107T080000
END:STANDARD
BEGIN:DAYLIGHT
TZOFFSETFROM:-0700
TZOFFSETTO:-0600
TZNAME:MDT
DTSTART:20220313T090000
END:DAYLIGHT
BEGIN:STANDARD
TZOFFSETFROM:-0600
TZOFFSETTO:-0700
TZNAME:MST
DTSTART:20221106T080000
END:STANDARD
END:VTIMEZONE
BEGIN:VTIMEZONE
TZID:UTC
BEGIN:STANDARD
TZOFFSETFROM:+0000
TZOFFSETTO:+0000
TZNAME:UTC
DTSTART:20160101T000000
END:STANDARD
END:VTIMEZONE
BEGIN:VEVENT
DTSTART;TZID=America/Denver:20210901T160000
DTEND;TZID=America/Denver:20210901T190000
DTSTAMP:20260424T045738
CREATED:20210817T152411Z
LAST-MODIFIED:20250429T191010Z
UID:488669-1630512000-1630522800@arrcolorado.org
SUMMARY:"Yappy Hour" Dog Adoption Event
DESCRIPTION:
URL:https://arrcolorado.org/event/yappy-hour-dog-adoption-event/
LOCATION:Factotum Brewhouse\, 3845 Lipan St\, Denver\, CO\, 80211\, United States
END:VEVENT
BEGIN:VEVENT
DTSTART;TZID=America/Denver:20210724T100000
DTEND;TZID=America/Denver:20210725T130000
DTSTAMP:20260424T045738
CREATED:20210712T145157Z
LAST-MODIFIED:20250429T191011Z
UID:488536-1627120800-1627218000@arrcolorado.org
SUMMARY:Cat Adoption Event @ Westminster PetSmart
DESCRIPTION:Please join us on July 24 and 25 from 10 am to 1 pm to meet and adopt kittens and cats of all ages! Question? Email admin@arrcolorado.org.
URL:https://arrcolorado.org/event/cat-adoption-event-westminster-petsmart/
LOCATION:Petsmart – Westminster\, 1040 Town Center Dr\, Westminster\, CO\, 80021
END:VEVENT
BEGIN:VEVENT
DTSTART;TZID=America/Denver:20210714T160000
DTEND;TZID=America/Denver:20210714T210000
DTSTAMP:20260424T045738
CREATED:20210620T182603Z
LAST-MODIFIED:20210621T160829Z
UID:488411-1626278400-1626296400@arrcolorado.org
SUMMARY:ARR Fundraiser at Hogshead Brewery
DESCRIPTION:Join us for a fun evening and raise your glass to saving lives! 10% of beer sales on the day go to ARR! plus we will be available to answer all your questions about fostering and adopting animals in need. \nTime: 4:00 pm – 9:00 pm \nLocation: 4460 West 29th Street\, Denver\, CO 80212 \nMore information coming soon!
URL:https://arrcolorado.org/event/arr-fundraiser-at-hogshead-brewery/
LOCATION:CO
END:VEVENT
BEGIN:VEVENT
DTSTART;TZID=America/Denver:20210613T120000
DTEND;TZID=America/Denver:20210613T160000
DTSTAMP:20260424T045738
CREATED:20210522T193203Z
LAST-MODIFIED:20250429T191011Z
UID:488329-1623585600-1623600000@arrcolorado.org
SUMMARY:ARR Dog Adoption Event at Copper Kettle Brewing Co.
DESCRIPTION:SCHEDULE OF SUNDAY “CHEERS TO 10 YEARS” ANNIVERSARY EVENTS: \n• 11AM: Join us for Beer-Mosa’s and Michilada’s!\n• 12-4 PM: Join us and the Animal Rescue of the Rockies for a live on-the-spot dog adoption happening right in our parking lot!\n• 1-4 PM: Live Music – Strings and the Box \nFood Trucks: Mama Jo’s BBQ and The Dapper Doughnut (artisan funnel cake style donuts!) \nBEER RELEASES (Available on draft all day):\n• Passport to the Amazon: Blueberry/Acai Smoothie Sour release!\n• Blackberry Vanilla Snowed In. Yes\, it’s back!! \nNOTE: Each person will get their IDs checked and will be given a wristband upon entry. You will purchase a No. 10 branded glass that you will REUSE all weekend. The glass is $12 and includes your first pour of beer. You must purchase a glass if you want to drink. If you come for multiple days\, please bring the glass back each day. \n 
URL:https://arrcolorado.org/event/arr-dog-adoption-event-at-copper-kettle-brewing-co/
LOCATION:Copper Kettle Brewing Company\, 1338 S Valentia St.\, Denver\, CO\, 80247\, United States
END:VEVENT
BEGIN:VEVENT
DTSTART;TZID=America/Denver:20210612T090000
DTEND;TZID=America/Denver:20210612T120000
DTSTAMP:20260424T045738
CREATED:20210522T192641Z
LAST-MODIFIED:20250429T191012Z
UID:488326-1623488400-1623499200@arrcolorado.org
SUMMARY:Adopt a Dog at Dirty Dogs
DESCRIPTION:Come meet and adopt your new canine best friend at this dog adoption event!
URL:https://arrcolorado.org/event/adopt-a-dog-at-dirty-dogs/
LOCATION:Dirty Dogs Roadhouse\, 17999 W. Colfax Ave\, GOLDEN\, CO\, 80401\, United States
END:VEVENT
BEGIN:VEVENT
DTSTART;TZID=America/Denver:20210228T080000
DTEND;TZID=America/Denver:20210314T233000
DTSTAMP:20260424T045738
CREATED:20210228T173326Z
LAST-MODIFIED:20210228T173635Z
UID:487803-1614499200-1615764600@arrcolorado.org
SUMMARY:SCENTSY Fundraiser for ARR!
DESCRIPTION:
URL:https://arrcolorado.org/event/scentsy-fundraiser-for-arr/
LOCATION:CO
END:VEVENT
BEGIN:VEVENT
DTSTART;TZID=UTC:20190419T140000
DTEND;TZID=UTC:20190419T160000
DTSTAMP:20260424T045738
CREATED:20190403T011748Z
LAST-MODIFIED:20190403T011748Z
UID:353760-1555682400-1555689600@arrcolorado.org
SUMMARY:Schwab Volunteer Expo and Wine Tasting!  Friday\, April 29\, 2-4 pm
DESCRIPTION:Animal Rescue of the Rockies will host a table at this event – please join us!\n\nCharles Schwab is hosting their 2nd Annual Volunteer Expo on Friday April 19th from 2:00 to 4:00 p.m. at their Lone Tree campus. Making a meaningful impact in our community is a priority for Schwab. The goal of the Volunteer Expo is to create awareness of the many ways Schwab employees can make an impact in our community. \n \nI am thrilled to announce that Schwab will be hosting a ONEHOPE wine tasting fundraiser at the Volunteer Expo. We will be doing a drawing to select which of the participating non-profit organizations will be the recipient of the \ndonation.
URL:https://arrcolorado.org/event/schwab-volunteer-expo-and-wine-tasting-friday-april-29-2-4-pm/
LOCATION:Schwab Lone Tree Campus\, 9899 Schwab Way Suite 100\, Lone Tree\, CO\, 80124\, United States
END:VEVENT
BEGIN:VEVENT
DTSTART;TZID=UTC:20190414T123000
DTEND;TZID=UTC:20190414T153000
DTSTAMP:20260424T045738
CREATED:20190403T010443Z
LAST-MODIFIED:20190403T012028Z
UID:353752-1555245000-1555255800@arrcolorado.org
SUMMARY:Broadview Animal Clinic Open House
DESCRIPTION:OPEN HOUSE!!!  Broadview Animal Clinic\, 10300 East Evans Avenue\, Denver\, CO 80247\, 12:30 – 3:30\n Broadview Animal Clinic will be holding an Open House on Sunday April 14th from 12:30 PM until 3:30 PM. This is an excellent opportunity to meet their great team of doctors and technicians at Broadview Animal Clinic\, check out their new space\, and win a host of prizes tailored to your furry friends! Food\, prizes\, caricatures\, face painting\, and many more fun activities for the whole family!  Please join us for this event and learn more about Animal Rescue of the Rockies at our table hosted by Tiffany Maestas\, ARR’s Dog Adoption Coordinator!
URL:https://arrcolorado.org/event/broadview-animal-clinic-open-house/
LOCATION:Broadview Animal Clinic\, 10300 East Evans Avenue\, Denver\, CO\, 80247\, United States
END:VEVENT
BEGIN:VEVENT
DTSTART;TZID=UTC:20181104T080000
DTEND;TZID=UTC:20181104T170000
DTSTAMP:20260424T045738
CREATED:20181105T052421Z
LAST-MODIFIED:20181105T052515Z
UID:305934-1541318400-1541350800@arrcolorado.org
SUMMARY:Mutts & Mimosas Holiday Adoption Event!  Saturday\, November 10th
DESCRIPTION: 
URL:https://arrcolorado.org/event/mutts-mimosas-holiday-adoption-event-saturday-november-10th/
LOCATION:CO
END:VEVENT
BEGIN:VEVENT
DTSTART;TZID=UTC:20181027T120000
DTEND;TZID=UTC:20181027T150000
DTSTAMP:20260424T045738
CREATED:20180929T002048Z
LAST-MODIFIED:20180929T003521Z
UID:294972-1540641600-1540652400@arrcolorado.org
SUMMARY:Adoption Event\, Saturday\, Oct. 27 at Strange Craft Beer Company\, Denver!
DESCRIPTION:BIERGARTEN!\nCome meet some of our adoptable dogs on Saturday\, October 27th at Strange Craft Beer Company’s Biergarten in Denver!  2\,500 square feet to hang out with friends and family\, play some Ladder Ball or Corn Hole. Raise your glass to the folks on the light rail traveling by! \nTime:  12 noon to 3 p.m. \nAddress:  1330 Zuni Street\, Denver\, CO  80204
URL:https://arrcolorado.org/event/adoption-event-saturday-oct-27-at-strange-craft-beer-company-denver/
LOCATION:Strange Craft Brew Company\, 1330 Zuni St.\, Denver\, CO\, 80204
END:VEVENT
BEGIN:VEVENT
DTSTART;TZID=UTC:20181024T180000
DTEND;TZID=UTC:20181024T220000
DTSTAMP:20260424T045738
CREATED:20180929T004705Z
LAST-MODIFIED:20180929T005007Z
UID:294985-1540404000-1540418400@arrcolorado.org
SUMMARY:Hogshead Brewery Charity Event for ARR!  Wednesday\, Oct. 24th
DESCRIPTION:Raise a pint and raise a dollar for homeless pets!  Every pint of beer sold between 6:00 pm & 10 pm will raise $1.00 for Animal Rescue of the Rockies\, IF you allow our volunteer\, Mike Nelson\, to pour your beer at the tap!  Tips will be accepted\, too\, and the money raised will help with veterinary care for our foster dogs and cats.  Join us for a fun evening and raise your glass to saving lives! \nTime:  6:00 pm – 10:00 pm \nLocation:  4460 West 29th Street\, Denver\, CO  80212
URL:https://arrcolorado.org/event/hogshead-brewery-charity-event-for-arr-wednesday-oct-24th/
LOCATION:Hogshead Brewery\, 4460 West 29th Street\, Denver\, CO\, 80212
END:VEVENT
BEGIN:VEVENT
DTSTART;TZID=UTC:20181013T110000
DTEND;TZID=UTC:20181013T150000
DTSTAMP:20260424T045738
CREATED:20180929T000835Z
LAST-MODIFIED:20180929T000835Z
UID:294963-1539428400-1539442800@arrcolorado.org
SUMMARY:Adoption Event\, Longmont Camping World\, Oct. 13
DESCRIPTION:Hi everyone!  Come join us for an outdoor adoption event at Longmont Camping World on Saturday\, October 13th!  Camping World is hosting adoption events nationwide that weekend\, and we want to see lots of folks out there! \nTime:  11 am to 3 pm \nAddress:  14504 E. I-25 Frontage Road\, Longmont\, CO
URL:https://arrcolorado.org/event/adoption-event-longmont-camping-world-oct-13/
LOCATION:Longmont Camping World\, 14504 E. I-25 Frontage Rd.\, Longmont\, CO\, 80504
END:VEVENT
BEGIN:VEVENT
DTSTART;TZID=UTC:20180721T110000
DTEND;TZID=UTC:20180721T150000
DTSTAMP:20260424T045738
CREATED:20180716T234154Z
LAST-MODIFIED:20180716T234305Z
UID:268781-1532170800-1532185200@arrcolorado.org
SUMMARY:Arvada Petsmart Adoption Event
DESCRIPTION:Location: Arvada Petsmart\n5285 Wadsworth Bypass\, Arvada\, CO 80002 \nTime: Saturday\, July 21st\n11 am-3 pm \nStop in to say hello and meet some of our adoptable pets!
URL:https://arrcolorado.org/event/arvada-petsmart-adoption-event-3/
LOCATION:Petsmart – Arvada\, 5285 Wadsworth Bypass\, Arvada\, 80002\, United States
END:VEVENT
BEGIN:VEVENT
DTSTART;TZID=UTC:20180624T120000
DTEND;TZID=UTC:20180624T160000
DTSTAMP:20260424T045738
CREATED:20180619T030610Z
LAST-MODIFIED:20180619T030826Z
UID:249108-1529841600-1529856000@arrcolorado.org
SUMMARY:Denver Taco Festival Dog Adoption Event!
DESCRIPTION:Anyone out there love TACOS and DOGS?\n\n\n \n\n\nWe have an exciting adoption event this Saturday\, June 24th from 12pm – 4pm at the Denver Taco Festival (3600 Wynkoop St). Here is the event’s website if you want to take a look at the fun! http://denvertacofestival.com/\n\n\n\nJoin us for great tacos and meet some adorable adoptable dogs! \nhttp://denvertacofestival.com/
URL:https://arrcolorado.org/event/denver-taco-festival-dog-adoption-event/
LOCATION:Denver Taco Festival\, 725 W 39th Ave\, Denver\, CO\, 80216\, United States
END:VEVENT
BEGIN:VEVENT
DTSTART;TZID=UTC:20180519T110000
DTEND;TZID=UTC:20180519T150000
DTSTAMP:20260424T045738
CREATED:20180517T003502Z
LAST-MODIFIED:20180517T003502Z
UID:225819-1526727600-1526742000@arrcolorado.org
SUMMARY:Arvada PetSmart National Adoption Event!
DESCRIPTION:Don’t miss your chance to meet your new best friend this Saturday!  We’ll have some adorable adoptable dogs just waiting for you to fall in love!
URL:https://arrcolorado.org/event/arvada-petsmart-national-adoption-event/
LOCATION:Petsmart – Arvada\, 5285 Wadsworth Bypass\, Arvada\, 80002\, United States
END:VEVENT
BEGIN:VEVENT
DTSTART;TZID=UTC:20180506T130000
DTEND;TZID=UTC:20180506T160000
DTSTAMP:20260424T045738
CREATED:20180427T224001Z
LAST-MODIFIED:20180427T224001Z
UID:212116-1525611600-1525622400@arrcolorado.org
SUMMARY:Yappy Hour & Adoption Event-Animal Rescue of the Rockies (ARR)
DESCRIPTION:Join us with your best friend for some fun on our patio with lots of freebies from Chuck & Don’s Pet Food & Supplies and Suzie’s CBD Treats. 10% of all proceeds will be donated to the Animal Rescue of the Rockies to help them see the day when every pet has a loving home. \nLimited Edition ARR Wine Bottles will be available for purchase\, with a percentage of sales for each bottle donated to ARR. Choose Red or Rosé with your favorite original image by local artist\, BFF Pet Paintings by David Kennett. David will be on site painting too! \nARR pulls homeless dogs and cats from overcrowded shelters and places them in loving foster homes until their forever homes are found. They promote spaying and neutering to reduce pet overpopulation and encourage quality relationships between pets and their people through behavior resources and training.
URL:https://arrcolorado.org/event/yappy-hour-adoption-event/
LOCATION:Bigsby’s Folly Craft Winery\, 3563 Wazee St\, Denver\, CO\, 80216\, United States
ATTACH;FMTTYPE=image/jpeg:https://arrcolorado.org/wp-content/uploads/2018/04/31206597_1884681011542803_5434183714584133632_n.jpg
END:VEVENT
BEGIN:VEVENT
DTSTART;TZID=UTC:20180419T170000
DTEND;TZID=UTC:20180419T200000
DTSTAMP:20260424T045738
CREATED:20180308T043518Z
LAST-MODIFIED:20180308T043931Z
UID:174189-1524157200-1524168000@arrcolorado.org
SUMMARY:Bow Wow Film Festival
DESCRIPTION:Join us for the 3rd annual Bow Wow Film Fest benefiting Animal Rescue of the Rockies. Doors open at 5:30 pm for our silent auction\, and movies start at 6:15 pm. Online tickets are $10 for adults\, and $8 for children 12 and under. (Tickets at the door are $12 for adults\, $10 for children 12 and under.) \nWe are so excited about the movies chosen for our 2017-18 Tour! We have movies about working dogs\, both old school and new; the return of the delightful “Ask Frank” and his advice column; and we go international with movies filmed abroad! Come laugh and cheer as we marvel in all the ways our beloved dogs touch our lives! \nBow Wow Film Fest is a traveling film festival that celebrates\, educates and inspires all things doggie (with or without their human) through the art of short film. Bow Wow features some of the year’s best pooch-themed short films wrapped up in one fun-loving package. Bow Wow presents an opportunity for animal welfare groups to generate awareness and a unique and delightful way to fundraise. \nAnimal Rescue of the Rockies has been saving the lives of homeless dogs and cats for 15 years. We pull pets from overcrowded shelters and natural disaster areas\, place them in foster homes\, and adopt them to loving forever homes. In 2017 we adopted out 1\,282 lucky pets! Proceeds from the Bow Wow go directly towards helping other homeless pets on their journeys to find forever homes. \nTickets must be purchased through the Lyric website \nhttp://lyriccinema.com/movie/bow-wow-film-festival-2018
URL:https://arrcolorado.org/event/bow-wow-film-festival/
LOCATION:The Lyric Cinema\, 1209 N College Ave\, Ft Collins\, CO\, 80524\, United States
ATTACH;FMTTYPE=image/jpeg:https://arrcolorado.org/wp-content/uploads/2018/03/bowwowfilmfest2018image.jpg
END:VEVENT
BEGIN:VEVENT
DTSTART;TZID=UTC:20180331T110000
DTEND;TZID=UTC:20180331T150000
DTSTAMP:20260424T045738
CREATED:20180302T020729Z
LAST-MODIFIED:20180302T020729Z
UID:169603-1522494000-1522508400@arrcolorado.org
SUMMARY:Arvada PetSmart Adoption Event
DESCRIPTION:Come join us for an adoption event at the Arvada PetSmart. Come and meet our great adoptable animals!
URL:https://arrcolorado.org/event/arvada-petsmart-adoption-event-2/
LOCATION:Petsmart – Arvada\, 5285 Wadsworth Bypass\, Arvada\, 80002\, United States
END:VEVENT
BEGIN:VEVENT
DTSTART;TZID=UTC:20180317T110000
DTEND;TZID=UTC:20180317T150000
DTSTAMP:20260424T045738
CREATED:20180314T205326Z
LAST-MODIFIED:20180314T205326Z
UID:179371-1521284400-1521298800@arrcolorado.org
SUMMARY:Loveland PetSmart Adoption Event
DESCRIPTION:Come join us for an adoption event at the Loveland PetSmart. Come and meet our great adoptable animals!
URL:https://arrcolorado.org/event/loveland-petsmart-adoption-event-26/
LOCATION:PetSmart – Loveland\, 1715 Rocky Mountain Avenue\, Loveland\, 80538\, United States
END:VEVENT
BEGIN:VEVENT
DTSTART;TZID=UTC:20180310T110000
DTEND;TZID=UTC:20180310T150000
DTSTAMP:20260424T045738
CREATED:20180308T044622Z
LAST-MODIFIED:20180308T044622Z
UID:174202-1520679600-1520694000@arrcolorado.org
SUMMARY:Orvis - We Love Dogs Event - March 10 at Orvis Cherry Creek North
DESCRIPTION:We love dogs and we love fly fishing\, so having a dog that loves to fly fish and is as excited as we are when we land a fish is the very best of both worlds. Join us in the shop this Saturday 3/10 from 11am-3pm as we celebrate all the great dogs out there-the ones we currently own\, and the great ones that have passed. Maybe a new pup on the horizon. We love to hear all your dog and fish stories\, so join us this weekend.
URL:https://arrcolorado.org/event/orvis-love-dogs-event-march-10-orvis-cherry-creek-north/
LOCATION:Orvis – Cherry Creek North\, 2770 E Second Avenue\, Denver\, CO\, 80206\, United States
ATTACH;FMTTYPE=image/jpeg:https://arrcolorado.org/wp-content/uploads/2018/03/28872398_1553135391472530_542313464492720128_o.jpg
END:VEVENT
BEGIN:VEVENT
DTSTART;TZID=UTC:20180217T110000
DTEND;TZID=UTC:20180217T150000
DTSTAMP:20260424T045738
CREATED:20180217T072641Z
LAST-MODIFIED:20180217T072641Z
UID:160227-1518865200-1518879600@arrcolorado.org
SUMMARY:Loveland PetSmart Adoption Event
DESCRIPTION:Come join us for an adoption event at the Loveland PetSmart. Come and meet our great adoptable animals!
URL:https://arrcolorado.org/event/loveland-petsmart-adoption-event-25/
LOCATION:PetSmart – Loveland\, 1715 Rocky Mountain Avenue\, Loveland\, 80538\, United States
END:VEVENT
BEGIN:VEVENT
DTSTART;TZID=UTC:20180217T110000
DTEND;TZID=UTC:20180217T150000
DTSTAMP:20260424T045738
CREATED:20180217T072527Z
LAST-MODIFIED:20180217T072527Z
UID:160225-1518865200-1518879600@arrcolorado.org
SUMMARY:University Hills PetSmart Adoption Event
DESCRIPTION:Come join us for an adoption event at the University Hills (2780 S Colorado Blvd) PetSmart. Come and meet our great adoptable animals!
URL:https://arrcolorado.org/event/university-hills-petsmart-adoption-event-8/
LOCATION:University Hills Petsmart\, 2780 S Colorado Blvd\, Denver\, 80222\, United States
END:VEVENT
BEGIN:VEVENT
DTSTART;TZID=UTC:20171118T110000
DTEND;TZID=UTC:20171118T150000
DTSTAMP:20260424T045738
CREATED:20171109T092414Z
LAST-MODIFIED:20171109T092414Z
UID:88615-1511002800-1511017200@arrcolorado.org
SUMMARY:Arvada PetSmart Adoption Event
DESCRIPTION:Come join us for an adoption event at the Arvada PetSmart. Come and meet our great adoptable animals!
URL:https://arrcolorado.org/event/arvada-petsmart-adoption-event/
LOCATION:Petsmart – Arvada\, 5285 Wadsworth Bypass\, Arvada\, 80002\, United States
END:VEVENT
BEGIN:VEVENT
DTSTART;TZID=UTC:20171112T110000
DTEND;TZID=UTC:20171112T140000
DTSTAMP:20260424T045738
CREATED:20171109T090731Z
LAST-MODIFIED:20171109T090731Z
UID:88600-1510484400-1510495200@arrcolorado.org
SUMMARY:Animal Rescue of the Rockies Cat Adoption!
DESCRIPTION:We’re having our very FIRST cat adoption with Animal Rescue of the Rockies! Animal Rescue of the Rockies mission is to rescue\, foster\, vet and rehome unwanted shelter animals and promote spay and neuter of all animals. \nSo come on by if you’re looking for a new sweet kitty or share with your friends and family who might be looking!
URL:https://arrcolorado.org/event/animal-rescue-rockies-cat-adoption/
LOCATION:Bentley’s Pet Stuff\, 6688 West Coal Mine Ave\, Littleton\, CO\, 80123\, United States
END:VEVENT
BEGIN:VEVENT
DTSTART;TZID=UTC:20171021T110000
DTEND;TZID=UTC:20171021T150000
DTSTAMP:20260424T045738
CREATED:20171005T073903Z
LAST-MODIFIED:20171005T073903Z
UID:63279-1508583600-1508598000@arrcolorado.org
SUMMARY:University Hills PetSmart Adoption Event
DESCRIPTION:Come join us for an adoption event at the University Hills (2780 S Colorado Blvd) PetSmart. Come and meet our great adoptable animals!
URL:https://arrcolorado.org/event/university-hills-petsmart-adoption-event-7/
LOCATION:CO
END:VEVENT
BEGIN:VEVENT
DTSTART;TZID=UTC:20171014T110000
DTEND;TZID=UTC:20171014T140000
DTSTAMP:20260424T045738
CREATED:20170820T075724Z
LAST-MODIFIED:20170820T075724Z
UID:29468-1507978800-1507989600@arrcolorado.org
SUMMARY:Bigsby's Folly Craft Winery - Yoga + Wine + Pups
DESCRIPTION:“Join us for yoga\, wine and puppy adoptions/fundraising for the Animal Rescue of the Rockies at Bigsby’s Folly Craft Winery and Cellar.  This winery is an “artisanal meets accessible” full-production craft winery named after the owner’s golden retriever Bigsby.  This winery is not only a big supporter of doggy-donation based events\, but is “loving and accepting of anyone who appreciates the good life and the things that make it so —- like dogs\, and wine.”  (More details coming soon!)  BYOM! (Bring your own mat). \nCost: Donation Class – Help us raise money for Animal Rescue of the Rockies”
URL:https://arrcolorado.org/event/bigsbys-folly-craft-winery-yoga-wine-pups/
LOCATION:Bigsby’s Folly Craft Winery\, 3563 Wazee St\, Denver\, CO\, 80216\, United States
END:VEVENT
BEGIN:VEVENT
DTSTART;TZID=UTC:20170923T110000
DTEND;TZID=UTC:20170923T150000
DTSTAMP:20260424T045738
CREATED:20170920T010001Z
LAST-MODIFIED:20170920T010001Z
UID:52047-1506164400-1506178800@arrcolorado.org
SUMMARY:Loveland PetSmart Adoption Event
DESCRIPTION:Come join us for an adoption event at the Loveland PetSmart. Come and meet our great adoptable animals!
URL:https://arrcolorado.org/event/loveland-petsmart-adoption-event-24/
LOCATION:PetSmart – Loveland\, 1715 Rocky Mountain Avenue\, Loveland\, 80538\, United States
END:VEVENT
BEGIN:VEVENT
DTSTART;TZID=UTC:20170916T110000
DTEND;TZID=UTC:20170916T150000
DTSTAMP:20260424T045738
CREATED:20170912T232557Z
LAST-MODIFIED:20170912T232557Z
UID:46833-1505559600-1505574000@arrcolorado.org
SUMMARY:University Hills PetSmart Adoption Event
DESCRIPTION:Come join us for an adoption event at the University Hills (2780 S Colorado Blvd) PetSmart. Come and meet our great adoptable animals!
URL:https://arrcolorado.org/event/university-hills-petsmart-adoption-event-6/
LOCATION:University Hills Petsmart\, 2780 S Colorado Blvd\, Denver\, 80222\, United States
END:VEVENT
BEGIN:VEVENT
DTSTART;TZID=UTC:20170826T090000
DTEND;TZID=UTC:20170826T150000
DTSTAMP:20260424T045738
CREATED:20170820T074903Z
LAST-MODIFIED:20170820T074903Z
UID:29458-1503738000-1503759600@arrcolorado.org
SUMMARY:Amenify Launch Party @ 800 Penn
DESCRIPTION:Grab some friends and join us in unit 1505 “The Pennthouse.” Why? We just partnered with Amenify to upgrade your lifestyle—and that calls for a party. Drop in anytime. \nSCHEDULE \n9:00 – 10:00 am\nYoga on the penthouse deck with Corepower Yoga South Denver Studios\nCoffee by Copper Door Coffee Roasters and acai bowls by Vitality Bowls \n10:30 – 11:30 am\nHigh-intensity interval training (HIIT) class with Edge Fitness\nCoffee and acai bowls continue\n\n11:30 am – 1:00 pm\nVisit with Amenify vendors\nLunch bites by Govnr’s Park Tavern\n15-minute chair massages with Tanya\nPuppies with Animal Rescue of the Rockies and Pupsicles Dog Care \n1:00 – 3:00 pm\nBeer and wine tasting with Lowdown Brewery + Kitchen \nPlus\, there are prizes! Win a month’s membership to Corepower Yoga South Denver Studios\, gift cards to Matrix Fitness and Spa and Govnr’s Park Tavern\, or one of three $100 Amenify credits. \nAbout Amenify\nAmenify provides easy and exclusive access to services you need—from fitness to maid service to transportation—all with membership pricing\, all right here at 800 Penn An Apartment Community. \njoinamenify.com/800Penn\n720-598-0711
URL:https://arrcolorado.org/event/amenify-launch-party-800-penn/
LOCATION:Pennthouse @ 800 Penn\, 800 Pennsylvania Street #1505\, Denver\, CO\, 80203\, United States
ATTACH;FMTTYPE=image/jpeg:https://arrcolorado.org/wp-content/uploads/2017/08/image.jpg
END:VEVENT
BEGIN:VEVENT
DTSTART;TZID=UTC:20170819T110000
DTEND;TZID=UTC:20170819T150000
DTSTAMP:20260424T045738
CREATED:20170813T061748Z
LAST-MODIFIED:20170813T061748Z
UID:24153-1503140400-1503154800@arrcolorado.org
SUMMARY:Loveland PetSmart Adoption Event
DESCRIPTION:Come join us for an adoption event at the Loveland PetSmart. Come and meet our great adoptable animals!
URL:https://arrcolorado.org/event/loveland-petsmart-adoption-event-23/
LOCATION:PetSmart – Loveland\, 1715 Rocky Mountain Avenue\, Loveland\, 80538\, United States
END:VEVENT
END:VCALENDAR